BEGIN:VCALENDAR
VERSION:2.0
PRODID:icalendar-ruby
CALSCALE:GREGORIAN
METHOD:PUBLISH
BEGIN:VEVENT
DTSTAMP:20260423T171039Z
UID:34-403486@overflowchurch.com.au
DTSTART:20261003T223000Z
DTEND:20261004T000000Z
CLASS:PUBLIC
CREATED:20260424T025845
DESCRIPTION:Sundays @ Overflow\nOur Sunday morning services start at 9:30am
 \, and are held in our auditorium at 6 Waropara Road\, Medowie.\nService
 s are approximately 1.5-2 hours\, and include a time for worship\, a mess
 age from the Bible\, prayer\, and practical life application of Jesus’ 
 teaching.\nMorning tea is available after the service.\nWe are very relaxe
 d – no formality around what we wear or expect from you! Come as you are
  and let us know if you are new around the place!
LAST-MODIFIED:20260424T025845
LOCATION:6 Waropara Rd\, Medowie
SUMMARY:Overflow Sunday Mornings
URL;VALUE=URI:https://overflowchurch.com.au/events/overflow-sunday-mornings
 --34/2026-10-04
ATTACH;FILENAME=overflow sunday mornings (1500 x 784 px).png;FMTTYPE=image/
 png:https://dq5pwpg1q8ru0.cloudfront.net/2024/04/20/23/08/03/a8744f78-7eac
 -44de-a762-222cd5fdea6f/overflow%20sunday%20mornings%20(1500%20x%20784%20p
 x).png
END:VEVENT
END:VCALENDAR
